Package: goProfiles Version: 1.71.0 Command: /Library/Frameworks/R.framework/Resources/bin/R CMD build --keep-empty-dirs --no-resave-data goProfiles StartedAt: 2025-10-10 17:23:15 -0400 (Fri, 10 Oct 2025) EndedAt: 2025-10-10 17:24:06 -0400 (Fri, 10 Oct 2025) EllapsedTime: 51.4 seconds RetCode: 0 Status: OK PackageFile: goProfiles_1.71.0.tar.gz PackageFileSize: 288.2 KiB