Package: goProfiles Version: 1.71.0 Command: rm -rf goProfiles.buildbin-libdir && mkdir goProfiles.buildbin-libdir && /Users/biocbuild/BBS/utils/build-universal.sh goProfiles_1.71.0.tar.gz /Library/Frameworks/R.framework/Resources/bin/R goProfiles.buildbin-libdir StartedAt: 2025-10-11 02:32:38 -0400 (Sat, 11 Oct 2025) EndedAt: 2025-10-11 02:33:02 -0400 (Sat, 11 Oct 2025) EllapsedTime: 24.1 seconds RetCode: 0 Status: OK PackageFile: goProfiles_1.71.0.tgz PackageFileSize: 502.6 KiB