Package: gmapR Version: 1.51.1 Command: /home/biocbuild/R/R/bin/R CMD INSTALL gmapR StartedAt: 2025-10-13 21:25:41 -0000 (Mon, 13 Oct 2025) EndedAt: 2025-10-13 21:36:10 -0000 (Mon, 13 Oct 2025) EllapsedTime: 628.5 seconds RetCode: 0 Status: OK