Package: gmapR Version: 1.51.1 Command: /home/biocbuild/R/R/bin/R CMD build --keep-empty-dirs --no-resave-data gmapR StartedAt: 2025-10-14 00:41:28 -0000 (Tue, 14 Oct 2025) EndedAt: 2025-10-14 00:52:06 -0000 (Tue, 14 Oct 2025) EllapsedTime: 638.3 seconds RetCode: 1 Status: ERROR PackageFile: None PackageFileSize: NA