Package: gmapR Version: 1.51.1 Command: /home/biocbuild/bbs-3.22-bioc/R/bin/R CMD check --install=check:gmapR.install-out.txt --library=/home/biocbuild/bbs-3.22-bioc/R/site-library --timings gmapR_1.51.1.tar.gz StartedAt: 2025-10-08 00:28:12 -0400 (Wed, 08 Oct 2025) EndedAt: 2025-10-08 00:35:38 -0400 (Wed, 08 Oct 2025) EllapsedTime: 446.5 seconds RetCode: 0 Status: WARNINGS CheckDir: gmapR.Rcheck Warnings: 7