Package: gmapR Version: 1.53.0 Command: /home/biocbuild/bbs-3.23-bioc/R/bin/R CMD INSTALL gmapR StartedAt: 2025-11-05 15:48:07 -0500 (Wed, 05 Nov 2025) EndedAt: 2025-11-05 15:55:05 -0500 (Wed, 05 Nov 2025) EllapsedTime: 417.7 seconds RetCode: 0 Status: OK