Package: gmapR Version: 1.53.0 Command: /home/biocbuild/bbs-3.23-bioc/R/bin/R CMD build --keep-empty-dirs --no-resave-data gmapR StartedAt: 2025-11-04 17:47:41 -0500 (Tue, 04 Nov 2025) EndedAt: 2025-11-04 17:54:55 -0500 (Tue, 04 Nov 2025) EllapsedTime: 433.3 seconds RetCode: 1 Status: ERROR PackageFile: None PackageFileSize: NA