Package: gmapR Version: 1.51.1 Command: /Library/Frameworks/R.framework/Resources/bin/R CMD INSTALL gmapR StartedAt: 2025-10-09 15:36:18 -0400 (Thu, 09 Oct 2025) EndedAt: 2025-10-09 15:45:17 -0400 (Thu, 09 Oct 2025) EllapsedTime: 538.8 seconds RetCode: 0 Status: OK