Package: gmapR Version: 1.51.1 Command: /Library/Frameworks/R.framework/Resources/bin/R CMD build --keep-empty-dirs --no-resave-data gmapR StartedAt: 2025-10-09 17:16:07 -0400 (Thu, 09 Oct 2025) EndedAt: 2025-10-09 17:24:54 -0400 (Thu, 09 Oct 2025) EllapsedTime: 526.8 seconds RetCode: 1 Status: ERROR PackageFile: None PackageFileSize: NA