Package: gmapR Version: 1.51.1 Command: rm -rf gmapR.buildbin-libdir && mkdir gmapR.buildbin-libdir && /Users/biocbuild/BBS/utils/build-universal.sh gmapR_1.51.1.tar.gz /Library/Frameworks/R.framework/Resources/bin/R gmapR.buildbin-libdir StartedAt: 2025-10-08 02:20:35 -0400 (Wed, 08 Oct 2025) EndedAt: 2025-10-08 02:31:29 -0400 (Wed, 08 Oct 2025) EllapsedTime: 654.0 seconds RetCode: 0 Status: OK PackageFile: gmapR_1.51.1.tgz PackageFileSize: 22.12 MiB