Package: gmapR Version: 1.51.1 Maintainer: Michael Lawrence MaintainerEmail: lawremi at gmail.com git_url: https://git.bioconductor.org/packages/gmapR git_branch: devel git_last_commit: 29973df git_last_commit_date: 2025-07-31 12:27:48 -0400 (Thu, 31 Jul 2025)