Package: globaltest Version: 5.64.0 Command: /home/biocbuild/bbs-3.22-bioc/R/bin/R CMD check --install=check:globaltest.install-out.txt --library=/home/biocbuild/bbs-3.22-bioc/R/site-library --timings globaltest_5.64.0.tar.gz StartedAt: 2025-10-30 06:28:53 -0400 (Thu, 30 Oct 2025) EndedAt: 2025-10-30 06:34:00 -0400 (Thu, 30 Oct 2025) EllapsedTime: 306.4 seconds RetCode: 0 Status: OK CheckDir: globaltest.Rcheck Warnings: 0