Package: globaltest Version: 5.65.0 Command: /home/biocbuild/bbs-3.23-bioc/R/bin/R CMD INSTALL globaltest StartedAt: 2025-11-26 15:29:22 -0500 (Wed, 26 Nov 2025) EndedAt: 2025-11-26 15:29:44 -0500 (Wed, 26 Nov 2025) EllapsedTime: 22.2 seconds RetCode: 0 Status: OK