Package: globaltest Version: 5.65.0 Command: /home/biocbuild/bbs-3.23-bioc/R/bin/R CMD build --keep-empty-dirs --no-resave-data globaltest StartedAt: 2025-11-26 17:51:11 -0500 (Wed, 26 Nov 2025) EndedAt: 2025-11-26 17:54:38 -0500 (Wed, 26 Nov 2025) EllapsedTime: 207.1 seconds RetCode: 0 Status: OK PackageFile: globaltest_5.65.0.tar.gz PackageFileSize: 561.1 KiB