Package: globaltest Version: 5.63.0 Command: /Library/Frameworks/R.framework/Resources/bin/R CMD INSTALL globaltest StartedAt: 2025-10-10 15:30:18 -0400 (Fri, 10 Oct 2025) EndedAt: 2025-10-10 15:30:50 -0400 (Fri, 10 Oct 2025) EllapsedTime: 31.6 seconds RetCode: 0 Status: OK