Package: globaltest Version: 5.63.0 Command: /Library/Frameworks/R.framework/Resources/bin/R CMD build --keep-empty-dirs --no-resave-data globaltest StartedAt: 2025-10-10 17:22:04 -0400 (Fri, 10 Oct 2025) EndedAt: 2025-10-10 17:25:43 -0400 (Fri, 10 Oct 2025) EllapsedTime: 219.4 seconds RetCode: 0 Status: OK PackageFile: globaltest_5.63.0.tar.gz PackageFileSize: 550.7 KiB