Package: globaltest Version: 5.63.0 Command: rm -rf globaltest.buildbin-libdir && mkdir globaltest.buildbin-libdir && /Users/biocbuild/BBS/utils/build-universal.sh globaltest_5.63.0.tar.gz /Library/Frameworks/R.framework/Resources/bin/R globaltest.buildbin-libdir StartedAt: 2025-10-11 02:32:30 -0400 (Sat, 11 Oct 2025) EndedAt: 2025-10-11 02:33:07 -0400 (Sat, 11 Oct 2025) EllapsedTime: 36.8 seconds RetCode: 0 Status: OK PackageFile: globaltest_5.63.0.tgz PackageFileSize: 1.117 MiB