Package: globalSeq Version: 1.37.0 Command: /home/biocbuild/R/R/bin/R CMD build --keep-empty-dirs --no-resave-data globalSeq StartedAt: 2025-10-14 00:40:24 -0000 (Tue, 14 Oct 2025) EndedAt: 2025-10-14 00:40:35 -0000 (Tue, 14 Oct 2025) EllapsedTime: 11.0 seconds RetCode: 0 Status: OK PackageFile: globalSeq_1.37.0.tar.gz PackageFileSize: 755.2 KiB