Package: globalSeq Version: 1.39.0 Command: /home/biocbuild/bbs-3.23-bioc/R/bin/R CMD INSTALL globalSeq StartedAt: 2025-11-20 15:05:40 -0500 (Thu, 20 Nov 2025) EndedAt: 2025-11-20 15:06:15 -0500 (Thu, 20 Nov 2025) EllapsedTime: 34.3 seconds RetCode: 0 Status: OK