Package: globalSeq Version: 1.39.0 Command: /home/biocbuild/bbs-3.23-bioc/R/bin/R CMD check --install=check:globalSeq.install-out.txt --library=/home/biocbuild/bbs-3.23-bioc/R/site-library --timings globalSeq_1.39.0.tar.gz StartedAt: 2025-11-21 00:06:01 -0500 (Fri, 21 Nov 2025) EndedAt: 2025-11-21 00:06:44 -0500 (Fri, 21 Nov 2025) EllapsedTime: 43.1 seconds RetCode: 0 Status: OK CheckDir: globalSeq.Rcheck Warnings: 0