Package: glmSparseNet Version: 1.27.0 Command: /home/biocbuild/R/R/bin/R CMD check --install=check:glmSparseNet.install-out.txt --library=/home/biocbuild/R/R/site-library --no-vignettes --timings glmSparseNet_1.27.0.tar.gz StartedAt: 2025-10-07 08:19:55 -0000 (Tue, 07 Oct 2025) EndedAt: 2025-10-07 08:22:11 -0000 (Tue, 07 Oct 2025) EllapsedTime: 136.1 seconds RetCode: 0 Status: OK CheckDir: glmSparseNet.Rcheck Warnings: 0