Package: glmSparseNet Version: 1.29.0 Command: /home/biocbuild/bbs-3.23-bioc/R/bin/R CMD INSTALL glmSparseNet StartedAt: 2025-11-05 15:50:29 -0500 (Wed, 05 Nov 2025) EndedAt: 2025-11-05 15:50:33 -0500 (Wed, 05 Nov 2025) EllapsedTime: 3.2 seconds RetCode: 0 Status: OK