Package: glmSparseNet Version: 1.29.0 Command: /home/biocbuild/bbs-3.23-bioc/R/bin/R CMD check --install=check:glmSparseNet.install-out.txt --library=/home/biocbuild/bbs-3.23-bioc/R/site-library --timings glmSparseNet_1.29.0.tar.gz StartedAt: 2025-10-30 06:19:26 -0400 (Thu, 30 Oct 2025) EndedAt: 2025-10-30 06:26:46 -0400 (Thu, 30 Oct 2025) EllapsedTime: 439.7 seconds RetCode: 0 Status: OK CheckDir: glmSparseNet.Rcheck Warnings: 0