Package: glmSparseNet Version: 1.29.0 Command: /home/biocbuild/bbs-3.23-bioc/R/bin/R CMD build --keep-empty-dirs --no-resave-data glmSparseNet StartedAt: 2025-11-05 17:54:20 -0500 (Wed, 05 Nov 2025) EndedAt: 2025-11-05 17:54:44 -0500 (Wed, 05 Nov 2025) EllapsedTime: 24.0 seconds RetCode: 1 Status: ERROR PackageFile: None PackageFileSize: NA