Package: glmSparseNet Version: 1.27.0 Command: /Library/Frameworks/R.framework/Resources/bin/R CMD check --install=check:glmSparseNet.install-out.txt --library=/Library/Frameworks/R.framework/Resources/library --no-vignettes --timings glmSparseNet_1.27.0.tar.gz StartedAt: 2025-09-29 21:38:14 -0400 (Mon, 29 Sep 2025) EndedAt: 2025-09-29 21:40:31 -0400 (Mon, 29 Sep 2025) EllapsedTime: 137.1 seconds RetCode: 0 Status: OK CheckDir: glmSparseNet.Rcheck Warnings: 0