Package: glmGamPoi Version: 1.23.0 Command: /home/biocbuild/bbs-3.23-bioc/R/bin/R CMD build --keep-empty-dirs --no-resave-data glmGamPoi StartedAt: 2025-11-05 17:54:19 -0500 (Wed, 05 Nov 2025) EndedAt: 2025-11-05 18:01:43 -0500 (Wed, 05 Nov 2025) EllapsedTime: 444.3 seconds RetCode: 0 Status: OK PackageFile: glmGamPoi_1.23.0.tar.gz PackageFileSize: 2.096 MiB