Package: glmGamPoi Version: 1.21.0 Command: /Library/Frameworks/R.framework/Resources/bin/R CMD build --keep-empty-dirs --no-resave-data glmGamPoi StartedAt: 2025-09-30 17:09:56 -0400 (Tue, 30 Sep 2025) EndedAt: 2025-09-30 17:20:23 -0400 (Tue, 30 Sep 2025) EllapsedTime: 627.4 seconds RetCode: 0 Status: OK PackageFile: glmGamPoi_1.21.0.tar.gz PackageFileSize: 2.089 MiB