Package: glmGamPoi Version: 1.21.0 Command: rm -rf glmGamPoi.buildbin-libdir && mkdir glmGamPoi.buildbin-libdir && /Users/biocbuild/BBS/utils/build-universal.sh glmGamPoi_1.21.0.tar.gz /Library/Frameworks/R.framework/Resources/bin/R glmGamPoi.buildbin-libdir StartedAt: 2025-10-02 01:53:12 -0400 (Thu, 02 Oct 2025) EndedAt: 2025-10-02 01:54:23 -0400 (Thu, 02 Oct 2025) EllapsedTime: 71.5 seconds RetCode: 0 Status: OK PackageFile: glmGamPoi_1.21.0.tgz PackageFileSize: 1.856 MiB