Package: ginmappeR Version: 1.7.0 Command: /home/biocbuild/bbs-3.23-bioc/R/bin/R CMD INSTALL ginmappeR StartedAt: 2025-11-07 15:33:10 -0500 (Fri, 07 Nov 2025) EndedAt: 2025-11-07 15:33:25 -0500 (Fri, 07 Nov 2025) EllapsedTime: 15.2 seconds RetCode: 0 Status: OK