Package: ginmappeR Version: 1.7.0 Command: /home/biocbuild/bbs-3.23-bioc/R/bin/R CMD build --keep-empty-dirs --no-resave-data ginmappeR StartedAt: 2025-11-07 17:47:42 -0500 (Fri, 07 Nov 2025) EndedAt: 2025-11-07 17:49:21 -0500 (Fri, 07 Nov 2025) EllapsedTime: 99.1 seconds RetCode: 0 Status: OK PackageFile: ginmappeR_1.7.0.tar.gz PackageFileSize: 674.1 KiB