Package: ggtreeSpace Version: 1.5.0 Command: /home/biocbuild/R/R/bin/R CMD INSTALL ggtreeSpace StartedAt: 2025-10-20 20:21:52 -0000 (Mon, 20 Oct 2025) EndedAt: 2025-10-20 20:22:25 -0000 (Mon, 20 Oct 2025) EllapsedTime: 32.3 seconds RetCode: 0 Status: OK