Package: ggtreeSpace Version: 1.5.0 Command: /home/biocbuild/R/R/bin/R CMD build --keep-empty-dirs --no-resave-data ggtreeSpace StartedAt: 2025-10-21 00:07:40 -0000 (Tue, 21 Oct 2025) EndedAt: 2025-10-21 00:08:07 -0000 (Tue, 21 Oct 2025) EllapsedTime: 27.0 seconds RetCode: 0 Status: OK PackageFile: ggtreeSpace_1.5.0.tar.gz PackageFileSize: 371.4 KiB