Package: ggtreeSpace Version: 1.7.0 Command: /home/biocbuild/bbs-3.23-bioc/R/bin/R CMD check --install=check:ggtreeSpace.install-out.txt --library=/home/biocbuild/bbs-3.23-bioc/R/site-library --timings ggtreeSpace_1.7.0.tar.gz StartedAt: 2025-11-22 00:03:19 -0500 (Sat, 22 Nov 2025) EndedAt: 2025-11-22 00:04:51 -0500 (Sat, 22 Nov 2025) EllapsedTime: 92.2 seconds RetCode: 0 Status: WARNINGS CheckDir: ggtreeSpace.Rcheck Warnings: 2