Package: ggtreeSpace Version: 1.5.0 Maintainer: Guangchuang Yu MaintainerEmail: guangchuangyu at gmail.com git_url: https://git.bioconductor.org/packages/ggtreeSpace git_branch: devel git_last_commit: 44249a1 git_last_commit_date: 2025-04-15 13:34:09 -0400 (Tue, 15 Apr 2025)