Package: ggtreeExtra Version: 1.19.1 Command: /home/biocbuild/R/R/bin/R CMD INSTALL ggtreeExtra StartedAt: 2025-10-16 21:21:13 -0000 (Thu, 16 Oct 2025) EndedAt: 2025-10-16 21:21:43 -0000 (Thu, 16 Oct 2025) EllapsedTime: 29.9 seconds RetCode: 0 Status: OK