Package: ggtreeExtra Version: 1.19.1 Command: /home/biocbuild/R/R/bin/R CMD build --keep-empty-dirs --no-resave-data ggtreeExtra StartedAt: 2025-10-17 01:34:01 -0000 (Fri, 17 Oct 2025) EndedAt: 2025-10-17 01:34:34 -0000 (Fri, 17 Oct 2025) EllapsedTime: 33.0 seconds RetCode: 0 Status: OK PackageFile: ggtreeExtra_1.19.1.tar.gz PackageFileSize: 304.5 KiB