Package: ggtreeExtra Version: 1.19.0 Command: F:\biocbuild\bbs-3.22-bioc\R\bin\R.exe CMD INSTALL ggtreeExtra StartedAt: 2025-08-14 15:32:19 -0400 (Thu, 14 Aug 2025) EndedAt: 2025-08-14 15:32:50 -0400 (Thu, 14 Aug 2025) EllapsedTime: 31.8 seconds RetCode: 0 Status: OK