Package: ggtreeExtra Version: 1.19.0 Command: chmod a+r ggtreeExtra -R && F:\biocbuild\bbs-3.22-bioc\R\bin\R.exe CMD build --keep-empty-dirs --no-resave-data ggtreeExtra StartedAt: 2025-08-14 20:32:19 -0400 (Thu, 14 Aug 2025) EndedAt: 2025-08-14 20:32:54 -0400 (Thu, 14 Aug 2025) EllapsedTime: 35.0 seconds RetCode: 0 Status: OK PackageFile: ggtreeExtra_1.19.0.tar.gz PackageFileSize: 200.2 KiB