Package: ggtreeExtra Version: 1.19.0 Command: rm -rf ggtreeExtra.buildbin-libdir && mkdir ggtreeExtra.buildbin-libdir && F:\biocbuild\bbs-3.22-bioc\R\bin\R.exe CMD INSTALL --build --library=ggtreeExtra.buildbin-libdir ggtreeExtra_1.19.0.tar.gz StartedAt: 2025-08-15 10:23:34 -0400 (Fri, 15 Aug 2025) EndedAt: 2025-08-15 10:24:14 -0400 (Fri, 15 Aug 2025) EllapsedTime: 39.6 seconds RetCode: 0 Status: OK PackageFile: ggtreeExtra_1.19.0.zip PackageFileSize: 333.5 KiB