Package: ggtreeExtra Version: 1.19.1 Command: /home/biocbuild/bbs-3.22-bioc/R/bin/R CMD check --install=check:ggtreeExtra.install-out.txt --library=/home/biocbuild/bbs-3.22-bioc/R/site-library --timings ggtreeExtra_1.19.1.tar.gz StartedAt: 2025-10-10 00:26:09 -0400 (Fri, 10 Oct 2025) EndedAt: 2025-10-10 00:27:17 -0400 (Fri, 10 Oct 2025) EllapsedTime: 68.1 seconds RetCode: 0 Status: OK CheckDir: ggtreeExtra.Rcheck Warnings: 0