Package: ggtreeDendro Version: 1.13.0 Command: /home/biocbuild/bbs-3.23-bioc/R/bin/R CMD INSTALL ggtreeDendro StartedAt: 2025-10-31 15:18:39 -0400 (Fri, 31 Oct 2025) EndedAt: 2025-10-31 15:18:46 -0400 (Fri, 31 Oct 2025) EllapsedTime: 7.0 seconds RetCode: 0 Status: OK