Package: ggtreeDendro Version: 1.11.0 Command: /Library/Frameworks/R.framework/Resources/bin/R CMD build --keep-empty-dirs --no-resave-data ggtreeDendro StartedAt: 2025-10-21 16:33:17 -0400 (Tue, 21 Oct 2025) EndedAt: 2025-10-21 16:33:24 -0400 (Tue, 21 Oct 2025) EllapsedTime: 7.1 seconds RetCode: 0 Status: OK PackageFile: ggtreeDendro_1.11.0.tar.gz PackageFileSize: 409.9 KiB