Package: ggtree Version: 4.1.1 Command: /home/biocbuild/bbs-3.23-bioc/R/bin/R CMD build --keep-empty-dirs --no-resave-data ggtree StartedAt: 2025-11-03 17:45:45 -0500 (Mon, 03 Nov 2025) EndedAt: 2025-11-03 17:46:00 -0500 (Mon, 03 Nov 2025) EllapsedTime: 15.0 seconds RetCode: 0 Status: OK PackageFile: ggtree_4.1.1.tar.gz PackageFileSize: 355.9 KiB