Package: ggspavis Version: 1.17.0 Command: /home/biocbuild/bbs-3.23-bioc/R/bin/R CMD INSTALL ggspavis StartedAt: 2025-11-20 15:24:13 -0500 (Thu, 20 Nov 2025) EndedAt: 2025-11-20 15:24:39 -0500 (Thu, 20 Nov 2025) EllapsedTime: 26.4 seconds RetCode: 0 Status: OK