Package: ggspavis Version: 1.17.0 Command: /home/biocbuild/bbs-3.23-bioc/R/bin/R CMD build --keep-empty-dirs --no-resave-data ggspavis StartedAt: 2025-11-20 17:50:57 -0500 (Thu, 20 Nov 2025) EndedAt: 2025-11-20 17:54:10 -0500 (Thu, 20 Nov 2025) EllapsedTime: 193.2 seconds RetCode: 0 Status: OK PackageFile: ggspavis_1.17.0.tar.gz PackageFileSize: 6.9 MiB