############################################################################## ############################################################################## ### ### Running command: ### ### /home/biocbuild/bbs-3.23-bioc/R/bin/R CMD build --keep-empty-dirs --no-resave-data ggspavis ### ############################################################################## ############################################################################## * checking for file ‘ggspavis/DESCRIPTION’ ... OK * preparing ‘ggspavis’: * checking DESCRIPTION meta-information ... OK * installing the package (it is needed to build vignettes) * creating vignettes ... OK * checking for LF line-endings in source and make files and shell scripts * checking for empty or unneeded directories WARNING: directory ‘ggspavis/inst/extdata’ is empty * building ‘ggspavis_1.17.0.tar.gz’