Package: ggseqalign Version: 1.5.0 Command: /home/biocbuild/bbs-3.23-bioc/R/bin/R CMD check --install=check:ggseqalign.install-out.txt --library=/home/biocbuild/bbs-3.23-bioc/R/site-library --timings ggseqalign_1.5.0.tar.gz StartedAt: 2025-11-15 00:02:04 -0500 (Sat, 15 Nov 2025) EndedAt: 2025-11-15 00:03:56 -0500 (Sat, 15 Nov 2025) EllapsedTime: 112.2 seconds RetCode: 0 Status: OK CheckDir: ggseqalign.Rcheck Warnings: 0