Package: ggseqalign Version: 1.3.0 Command: rm -rf ggseqalign.buildbin-libdir && mkdir ggseqalign.buildbin-libdir && /Users/biocbuild/BBS/utils/build-universal.sh ggseqalign_1.3.0.tar.gz /Library/Frameworks/R.framework/Resources/bin/R ggseqalign.buildbin-libdir StartedAt: 2025-09-22 01:33:04 -0400 (Mon, 22 Sep 2025) EndedAt: 2025-09-22 01:33:24 -0400 (Mon, 22 Sep 2025) EllapsedTime: 20.9 seconds RetCode: 0 Status: OK PackageFile: ggseqalign_1.3.0.tgz PackageFileSize: 729.5 KiB