Package: ggsc Version: 1.9.0 Command: /home/biocbuild/bbs-3.23-bioc/R/bin/R CMD INSTALL ggsc StartedAt: 2025-10-31 15:27:03 -0400 (Fri, 31 Oct 2025) EndedAt: 2025-10-31 15:27:59 -0400 (Fri, 31 Oct 2025) EllapsedTime: 56.6 seconds RetCode: 0 Status: OK