Package: ggsc Version: 1.9.0 Command: /Library/Frameworks/R.framework/Resources/bin/R CMD INSTALL ggsc StartedAt: 2025-11-20 15:25:19 -0500 (Thu, 20 Nov 2025) EndedAt: 2025-11-20 15:26:31 -0500 (Thu, 20 Nov 2025) EllapsedTime: 72.6 seconds RetCode: 0 Status: OK